BEGIN:VCALENDAR
VERSION:2.0
PRODID:-//Davis Cemetery District &amp; Arboretum - ECPv4.6.21//NONSGML v1.0//EN
CALSCALE:GREGORIAN
METHOD:PUBLISH
X-WR-CALNAME:Davis Cemetery District &amp; Arboretum
X-ORIGINAL-URL:https://daviscemetery.org
X-WR-CALDESC:Events for Davis Cemetery District &amp; Arboretum
BEGIN:VEVENT
DTSTART;TZID=America/Los_Angeles:20171210T130000
DTEND;TZID=America/Los_Angeles:20171210T160000
DTSTAMP:20260421T191114
CREATED:20161205T180003Z
LAST-MODIFIED:20171130T184602Z
UID:690-1512910800-1512921600@daviscemetery.org
SUMMARY:Group Art Exhibition Art of Celebration
DESCRIPTION:Artists of all mediums have come together to share the Art of Celebration. Join us on December 10th for seasonal treats and to support the wonderful local art community. \n
URL:https://daviscemetery.org/event/group-art-exhibition-celebration-of-life/
CATEGORIES:Gallery 1855
END:VEVENT
END:VCALENDAR