BEGIN:VCALENDAR
VERSION:2.0
PRODID:-//Davis Cemetery District &amp; Arboretum - ECPv4.6.21//NONSGML v1.0//EN
CALSCALE:GREGORIAN
METHOD:PUBLISH
X-WR-CALNAME:Davis Cemetery District &amp; Arboretum
X-ORIGINAL-URL:https://daviscemetery.org
X-WR-CALDESC:Events for Davis Cemetery District &amp; Arboretum
BEGIN:VEVENT
DTSTART;TZID=America/Los_Angeles:20170813T130000
DTEND;TZID=America/Los_Angeles:20170813T160000
DTSTAMP:20260422T012514
CREATED:20170717T182430Z
LAST-MODIFIED:20170726T160747Z
UID:1032-1502629200-1502640000@daviscemetery.org
SUMMARY:Gallery 1855 Event: Opening Reception Nicole Seisler "The Places We Built"
DESCRIPTION:Solo Exhibition of Nicole Seisler\, “The Places We Built”  \nAugust 12-August 31st  \nArtist Reception August 13th from 1-4:00pm  \nThe Places We Built is a new layer of Nicole Seisler’s ongoing project\, Hand Pressed Souvenirs\, which integrates social practice\, ceramics\, and the use of walking as an art-making tool. The project uses clay as the conceptual and material conduit for forging tangible\, intimate connections between people and the places in which they live\, work\, and travel. Nicole uses customized field kits to bring blocks of wet porcelain on walks throughout neighborhoods where participants use the malleable material to make impressions of architectural details that visually and culturally define a place. These Hand Pressed Souvenirs\, much like clay tablets of the earliest societies\, become records of particular moments in history. One side of each ceramic object shows sharp details of architecture and design while the other side retains the lines and marks of the hand that produced it. The space between people and place is literally embodied by the raw clay and\, once fired\, it is permanently solidified. The growing collection of Hand Pressed Souvenirs maps our global cities and spaces through personal connections\, stories\, and memories. \n  \nNicole’s exhibition at Gallery 1855 is a new iteration of this archival mapping process. Using the porcelain souvenirs as molds\, Nicole casts new compositions in handmade paper\, thereby forming fresh connections amongst the seven year old collection of souvenirs. This body of work serves as memories of memories\, an archive of an archive of our shared experiences of place. \n
URL:https://daviscemetery.org/event/gallery-1855-event-opening-reception-nicole-seisler-the-places-we-built/
CATEGORIES:Gallery 1855
END:VEVENT
END:VCALENDAR