BEGIN:VCALENDAR
VERSION:2.0
PRODID:-//Davis Cemetery District &amp; Arboretum - ECPv4.6.21//NONSGML v1.0//EN
CALSCALE:GREGORIAN
METHOD:PUBLISH
X-WR-CALNAME:Davis Cemetery District &amp; Arboretum
X-ORIGINAL-URL:https://daviscemetery.org
X-WR-CALDESC:Events for Davis Cemetery District &amp; Arboretum
BEGIN:VEVENT
DTSTART;TZID=America/Los_Angeles:20170506T180000
DTEND;TZID=America/Los_Angeles:20170509T200000
DTSTAMP:20260422T054836
CREATED:20161205T180253Z
LAST-MODIFIED:20161205T180446Z
UID:692-1494093600-1494360000@daviscemetery.org
SUMMARY:Art Theater of Davis "The Seagull"
DESCRIPTION:Art Theater of Davis will perform Chekov’s famous play “The Seagull” on the grounds of the scenic Davis Cemetery and Arboretum. \n
URL:https://daviscemetery.org/event/art-theater-of-davis-the-seagull/
CATEGORIES:Gallery 1855
END:VEVENT
BEGIN:VEVENT
DTSTART;TZID=America/Los_Angeles:20170506T190000
DTEND;TZID=America/Los_Angeles:20170509T210000
DTSTAMP:20260422T054836
CREATED:20170313T225329Z
LAST-MODIFIED:20170313T225329Z
UID:811-1494097200-1494363600@daviscemetery.org
SUMMARY:Art Theater of Davis Live Free Theater Performance "The Seagull"
DESCRIPTION:Art Theater of Davis  \nLive Free Theater Performance “The Seagull” \nApril 7-11\, 2017 7:00pm-9:00pm  \nMay 6-9th 7:00pm-9:00pm \nThe Art Theater of Davis will present its next show\, “The Seagull\,” outdoors at the Davis Cemetery under a full moon. \nPerformances are planned for 7 p.m. Friday through Tuesday\, April 7-11\, and Saturday through Tuesday\, May 6-9\, at the cemetery\, 820 Pole Line Road in Davis. The show is free. Seating is outdoors\, first-come\, first-served. \nThe May 7 performance will be preceded by a short talk with actors and artists from the production team\, emceed by Andy Jones\, poet laureate of Davis\, beginning at 7 p.m. and lasting approximately 20 minutes. The show will immediately follow. Davis Media Access will record the performance on May 9. \nThe unusual performance schedule\, spaced a month apart\, is designed around the expected full moon that will be visible in the sky during the performances.\nTimothy Nutter\, artistic director of Art Theater of Davis\, is co-producing this show with Kristi Dvorak\, community outreach director at the Davis Cemetery. \n“We think the cemetery can be a great venue for outdoor theater\, and we’re hoping this event can help more people in Davis see the cemetery and its arboretum as a destination generally\,” Nutter said. \n“We’re also arranging to set up the seating risers and theater chairs (as at Third Space) out on the lawn behind the gallery so that people will have a comfortable place from which to watch the play.” \nThanks to a grant from the Davis Civic Arts Program\, the Art Theater of Davis is able to pay the 12 actors and other staff small stipends for their work on this show. \nThis classic Russian play from 1896 mixes comedy and drama\, bringing to life a dozen contrasting characters on a country estate at the turn of the century. \nIn “The Seagull\,” Anton Chekhov dramatizes the conflict of generations by setting two successful and conservative artists — Irina Nikolayevna Arkadina and Boris Trigorin — against two young\, idealistic\, aspiring artists — Konstantin Gavrilovich and Nina Zarechnaya. \n“We are lucky to have many fine actors working with us on this show\,” Nutter said. \nATD stalwarts will recognize Lisa Halko\, in the role of Arkadina\, who was most recently seen with ATD as Aline in “The Master Builder.” Shane Osterhoudt\, Moliére in “Impromptu\,” will play Konstantin\, Arkadina’s son. Joaquin Murrieta and Veronica Jarboe\, both new to ATD\, will play Trigorin and Nina. \n“In typical Chekhovian fashion\, these characters are complemented by a net of family\, friends and servants\, whose interlocking relationships deflect\, interrupt and complicate the central plot line\,” Nutter said. \nCompleting the ensemble will be Jennifer McSpadden as Polina\, Phillip Stommel as Dr. Dorn\, Kevin Toole as Sorin\, Megan McMullan as Masha\, Nathaniel Sternbergh as Medvedenko\, Geoffrey Albrecht as Shamraev\, Pietro Bolla as Yakov and Scarlet O’Connor as the Maid. \nThis show will feature original music composed by Jonathan Favero. Costumes will be designed by Joanna Johnson and Tim Kerbavaz will serve as technical director. \nAs in past productions\, the show will use an original translation/adaptation of Chekhov’s script\, which Nutter wrote with the assistance of Marina Shatskikh\, a student of Russian literature at UC Davis. \nCalling all theater and art lovers. We are in need of volunteers to help set up\, act as ushers and provide onsite support for our upcoming Art Theater of Davis production of Chekov’s Seagull being held April 8-11 and May 6-9 at 7:00pm-10:00pm.  If you know of someone who would like to dedicate their time in a fun and educational setting please contact Timothy Nutter at art.theater.of.davis@gmail.com or Kristi Dvorak of the Davis Cemetery District at cemcod@dcn.org. \n
URL:https://daviscemetery.org/event/art-theater-of-davis-live-free-theater-performance-the-seagull/
CATEGORIES:Davis Cemetery District,Gallery 1855
END:VEVENT
BEGIN:VEVENT
DTSTART;TZID=America/Los_Angeles:20170507T090000
DTEND;TZID=America/Los_Angeles:20170531T160000
DTSTAMP:20260422T054836
CREATED:20170507T235556Z
LAST-MODIFIED:20170508T000353Z
UID:866-1494147600-1496246400@daviscemetery.org
SUMMARY:Summertime Group Art Exhibition
DESCRIPTION:Summer Time Group Art Exhibition \nShake off those winter doldrums with our first annual “Summertime” exhibition. \nArtists from all mediums have shared their interpretation of this wonderful season. Exhibition will run from May 4th-May 31st. \nThe reception will be held on Sunday\, May 21st from 1-4:00pm. Grab a friend and enjoy an afternoon of delightful work from some of your favorite artists. \nFeatured artists: \n\nLinda Ayre \nMary Ellen Bauer \nJoel Bresolin \nPearl Caysentes \nSimon Dvorak \nDalia Frank \nDonald Hartman \nMark Howell \nCharles V. McDonald \nMary Ann Montague \nCathie James-Robinson \nLin Lindert \nAnn Privateer \nMarguerite Schaffrron \nSusan Scholey \nCathy Speck \nCrystal Vagnier \nThelma Weatherford \n──── \n
URL:https://daviscemetery.org/event/summertime-group-art-exhibition/
CATEGORIES:Gallery 1855
END:VEVENT
END:VCALENDAR