BEGIN:VCALENDAR
VERSION:2.0
PRODID:-//Davis Cemetery District &amp; Arboretum - ECPv4.6.21//NONSGML v1.0//EN
CALSCALE:GREGORIAN
METHOD:PUBLISH
X-WR-CALNAME:Davis Cemetery District &amp; Arboretum
X-ORIGINAL-URL:https://daviscemetery.org
X-WR-CALDESC:Events for Davis Cemetery District &amp; Arboretum
BEGIN:VEVENT
DTSTART;TZID=America/Los_Angeles:20160727T003000
DTEND;TZID=America/Los_Angeles:20160727T130000
DTSTAMP:20260422T215631
CREATED:20160718T164633Z
LAST-MODIFIED:20160718T164633Z
UID:467-1469579400-1469624400@daviscemetery.org
SUMMARY:Artist Adele Shaw Free Talk
DESCRIPTION:  \nEnjoy the beautiful works of Adele Shaw and learn more about the artist and the techniques used to create her large-scale abstract paintings. The talk is free and open to the public. \n
URL:https://daviscemetery.org/event/artist-adele-shaw-free-talk/
CATEGORIES:Gallery 1855
END:VEVENT
END:VCALENDAR