BEGIN:VCALENDAR
VERSION:2.0
PRODID:-//Davis Cemetery District &amp; Arboretum - ECPv4.6.21//NONSGML v1.0//EN
CALSCALE:GREGORIAN
METHOD:PUBLISH
X-WR-CALNAME:Davis Cemetery District &amp; Arboretum
X-ORIGINAL-URL:https://daviscemetery.org
X-WR-CALDESC:Events for Davis Cemetery District &amp; Arboretum
BEGIN:VEVENT
DTSTART;TZID=UTC+0:20160202T090000
DTEND;TZID=UTC+0:20160227T160000
DTSTAMP:20260423T053729
CREATED:20160116T055938Z
LAST-MODIFIED:20160209T060143Z
UID:243-1454403600-1456588800@daviscemetery.org
SUMMARY:Gallery 1855 Presents: Ben Tauson "Davis Shopscapes"
DESCRIPTION:February Exhibition Dates February 1- February 2016 \nArtist Reception February 14\, 2016 1-4:00pm \nBen Tuason \nBen Tauson introduces his latest works “Davis Shopscapes” at Gallery 1855 (820 Pole Line Road\, Davis\, CA) throughout the month of February. A special artist reception will be held Sunday\, February 14\, 2015 from 1-4:00pm. This exhibition is a collection of well-studied photographs of the evolving cityscape of downtown Davis\, California. Ben Tauson has received great recognition for his work including Best of Show\, First Place\, Architecture Category\, and First Place\, Black and White category in the 2013 City of Davis Photography Contest. \n \n
URL:https://daviscemetery.org/event/ben-tausen-davis-shopscapes/
LOCATION:820 Pole Line Road\, Davis\, 95618
CATEGORIES:Gallery 1855
END:VEVENT
END:VCALENDAR