BEGIN:VCALENDAR
VERSION:2.0
PRODID:-//Davis Cemetery District &amp; Arboretum - ECPv4.6.21//NONSGML v1.0//EN
CALSCALE:GREGORIAN
METHOD:PUBLISH
X-WR-CALNAME:Davis Cemetery District &amp; Arboretum
X-ORIGINAL-URL:https://daviscemetery.org
X-WR-CALDESC:Events for Davis Cemetery District &amp; Arboretum
BEGIN:VEVENT
DTSTART;TZID=America/Los_Angeles:20260314T130000
DTEND;TZID=America/Los_Angeles:20260314T150000
DTSTAMP:20260423T033218
CREATED:20260302T175324Z
LAST-MODIFIED:20260302T175324Z
UID:7045-1773493200-1773500400@daviscemetery.org
SUMMARY:Craig Cooper Burial
DESCRIPTION:
URL:https://daviscemetery.org/event/craig-cooper-burial/
CATEGORIES:Davis Cemetery District
END:VEVENT
BEGIN:VEVENT
DTSTART;TZID=America/Los_Angeles:20260314T153000
DTEND;TZID=America/Los_Angeles:20260314T173000
DTSTAMP:20260423T033218
CREATED:20260302T175359Z
LAST-MODIFIED:20260302T175423Z
UID:7047-1773502200-1773509400@daviscemetery.org
SUMMARY:Helen Falk Burial
DESCRIPTION:
URL:https://daviscemetery.org/event/helen-faulk-burial/
CATEGORIES:Davis Cemetery District
END:VEVENT
END:VCALENDAR