BEGIN:VCALENDAR
VERSION:2.0
PRODID:-//Davis Cemetery District &amp; Arboretum - ECPv4.6.21//NONSGML v1.0//EN
CALSCALE:GREGORIAN
METHOD:PUBLISH
X-WR-CALNAME:Davis Cemetery District &amp; Arboretum
X-ORIGINAL-URL:https://daviscemetery.org
X-WR-CALDESC:Events for Davis Cemetery District &amp; Arboretum
BEGIN:VEVENT
DTSTART;TZID=America/Los_Angeles:20260311T110000
DTEND;TZID=America/Los_Angeles:20260311T130000
DTSTAMP:20260423T033334
CREATED:20260304T180735Z
LAST-MODIFIED:20260304T183638Z
UID:7052-1773226800-1773234000@daviscemetery.org
SUMMARY:Robert Schultz II Burial
DESCRIPTION:
URL:https://daviscemetery.org/event/robert-schultz-ii/
CATEGORIES:Davis Cemetery District
END:VEVENT
BEGIN:VEVENT
DTSTART;TZID=America/Los_Angeles:20260311T130000
DTEND;TZID=America/Los_Angeles:20260311T150000
DTSTAMP:20260423T033334
CREATED:20260305T192625Z
LAST-MODIFIED:20260305T192625Z
UID:7059-1773234000-1773241200@daviscemetery.org
SUMMARY:Kathleen Lawrence Burial
DESCRIPTION:
URL:https://daviscemetery.org/event/kathleen-lawrence-burial/
CATEGORIES:Davis Cemetery District
END:VEVENT
END:VCALENDAR