BEGIN:VCALENDAR
VERSION:2.0
PRODID:-//Davis Cemetery District &amp; Arboretum - ECPv4.6.21//NONSGML v1.0//EN
CALSCALE:GREGORIAN
METHOD:PUBLISH
X-WR-CALNAME:Davis Cemetery District &amp; Arboretum
X-ORIGINAL-URL:https://daviscemetery.org
X-WR-CALDESC:Events for Davis Cemetery District &amp; Arboretum
BEGIN:VEVENT
DTSTART;VALUE=DATE:20251031
DTEND;VALUE=DATE:20251103
DTSTAMP:20260423T093849
CREATED:20251006T163051Z
LAST-MODIFIED:20251006T163051Z
UID:6836-1761868800-1762127999@daviscemetery.org
SUMMARY:Dia de los Muertos
DESCRIPTION:On an annual basis\, the Davis Cemetery District hosts a Dia de los Muertos (Day of the Dead) celebration on our grounds. This celebration is one of the last Mesoamerican indigenous influenced rituals\, honoring mother earth and all ancestors. This celebration is part of an effort to create a community\, a sense of belonging\, and global awareness of cultural richness in our multicultural society. \n—–2025 Event Details—–\n\n\nThe Davis Cemetery District’s annual Día de los Muertos public altar was set up on Friday\, October 31st and will remain in place through November 2nd. In addition to the altar\, we will display educational signage\, gravesite cleaning supplies\, and fresh marigolds for visitors to place on the graves of their loved ones. \nWe invite everyone to stop by\, contribute to the altar\, and reflect in the peaceful surroundings of the cemetery. For safety reasons\, please refrain from placing open flames\, incense\, or alcohol on the altar. \n\n\n
URL:https://daviscemetery.org/event/dia-de-los-muertos-3/
CATEGORIES:Davis Cemetery District
END:VEVENT
END:VCALENDAR