BEGIN:VCALENDAR
VERSION:2.0
PRODID:-//Davis Cemetery District &amp; Arboretum - ECPv4.6.21//NONSGML v1.0//EN
CALSCALE:GREGORIAN
METHOD:PUBLISH
X-WR-CALNAME:Davis Cemetery District &amp; Arboretum
X-ORIGINAL-URL:https://daviscemetery.org
X-WR-CALDESC:Events for Davis Cemetery District &amp; Arboretum
BEGIN:VEVENT
DTSTART;TZID=America/Los_Angeles:20250910T100000
DTEND;TZID=America/Los_Angeles:20250910T120000
DTSTAMP:20260423T120610
CREATED:20250827T173501Z
LAST-MODIFIED:20250827T173501Z
UID:6790-1757498400-1757505600@daviscemetery.org
SUMMARY:Ann Taylor Burial
DESCRIPTION:
URL:https://daviscemetery.org/event/ann-taylor-burial/
CATEGORIES:Davis Cemetery District
END:VEVENT
END:VCALENDAR