BEGIN:VCALENDAR
VERSION:2.0
PRODID:-//Davis Cemetery District &amp; Arboretum - ECPv4.6.21//NONSGML v1.0//EN
CALSCALE:GREGORIAN
METHOD:PUBLISH
X-WR-CALNAME:Davis Cemetery District &amp; Arboretum
X-ORIGINAL-URL:https://daviscemetery.org
X-WR-CALDESC:Events for Davis Cemetery District &amp; Arboretum
BEGIN:VEVENT
DTSTART;TZID=America/Los_Angeles:20240922T110000
DTEND;TZID=America/Los_Angeles:20240922T130000
DTSTAMP:20260424T063916
CREATED:20240903T181901Z
LAST-MODIFIED:20240909T190751Z
UID:6049-1727002800-1727010000@daviscemetery.org
SUMMARY:COVID-19 Permanent Memorial Dedication Event
DESCRIPTION:The Davis Cemetery District will dedicate a permanent COVID-19 Memorial\, a project three years in the making. This memorial\, located at 820 Pole Line Road\, will serve as a space for reflection\, remembrance\, and healing. The memorial features a walking path with four portals—Home\, Community\, Loss\, and Hope—leading to a reflection area where visitors can sit and contemplate the impact of the pandemic. As visitors exit the memorial\, they will encounter images highlighting strength and resiliency\, focusing on looking forward while remembering the past. \nEven though the memorial is in Davis\, California\, and many of its images reflect the Sacramento Region\, it is intended to be a shared space of caring for people across the world. \nThe memorial honors those who lost their lives and considers first responders\, essential workers\, small businesses\, caregivers\, families\, and friends\, especially those disproportionately impacted by the pandemic. Closer to home\, it acknowledges the local community’s resilience and ability to overcome adversity. \nWhen:\nSunday\, September 22\, 2024\n11:00 A.M. (Guests are invited to arrive at 10:30 A.M. for a cardmaking project) \nWhere:\nDavis Cemetery District\n820 Pole Line Road\, Davis\, CA \nFormal program coming soon!  \n
URL:https://daviscemetery.org/event/covid-19-permanent-memorial-dedication-event/
LOCATION:820 Pole Line Road\, Davis\, CA\, 95616\, United States
CATEGORIES:Davis Cemetery District
END:VEVENT
END:VCALENDAR