BEGIN:VCALENDAR
VERSION:2.0
PRODID:-//Davis Cemetery District &amp; Arboretum - ECPv4.6.21//NONSGML v1.0//EN
CALSCALE:GREGORIAN
METHOD:PUBLISH
X-WR-CALNAME:Davis Cemetery District &amp; Arboretum
X-ORIGINAL-URL:https://daviscemetery.org
X-WR-CALDESC:Events for Davis Cemetery District &amp; Arboretum
BEGIN:VEVENT
DTSTART;TZID=America/Los_Angeles:20240611T093000
DTEND;TZID=America/Los_Angeles:20240611T113000
DTSTAMP:20260424T110904
CREATED:20240531T210049Z
LAST-MODIFIED:20240531T210049Z
UID:5848-1718098200-1718105400@daviscemetery.org
SUMMARY:Illa Moffett Burial
DESCRIPTION:
URL:https://daviscemetery.org/event/illa-moffett-burial/
CATEGORIES:Davis Cemetery District
END:VEVENT
BEGIN:VEVENT
DTSTART;TZID=America/Los_Angeles:20240611T114500
DTEND;TZID=America/Los_Angeles:20240611T134500
DTSTAMP:20260424T110904
CREATED:20240529T210212Z
LAST-MODIFIED:20240529T210212Z
UID:5839-1718106300-1718113500@daviscemetery.org
SUMMARY:Rudy Hernandez Burial
DESCRIPTION:
URL:https://daviscemetery.org/event/rudy-hernandez-burial/
CATEGORIES:Davis Cemetery District
END:VEVENT
END:VCALENDAR