BEGIN:VCALENDAR
VERSION:2.0
PRODID:-//Davis Cemetery District &amp; Arboretum - ECPv4.6.21//NONSGML v1.0//EN
CALSCALE:GREGORIAN
METHOD:PUBLISH
X-WR-CALNAME:Davis Cemetery District &amp; Arboretum
X-ORIGINAL-URL:https://daviscemetery.org
X-WR-CALDESC:Events for Davis Cemetery District &amp; Arboretum
BEGIN:VEVENT
DTSTART;TZID=America/Los_Angeles:20240516T150000
DTEND;TZID=America/Los_Angeles:20240516T170000
DTSTAMP:20260424T123904
CREATED:20240501T175119Z
LAST-MODIFIED:20240501T175119Z
UID:5750-1715871600-1715878800@daviscemetery.org
SUMMARY:Boris Klyuchevich Burial
DESCRIPTION:
URL:https://daviscemetery.org/event/boris-klyuchevich-burial/
CATEGORIES:Davis Cemetery District
END:VEVENT
END:VCALENDAR