BEGIN:VCALENDAR
VERSION:2.0
PRODID:-//Davis Cemetery District &amp; Arboretum - ECPv4.6.21//NONSGML v1.0//EN
CALSCALE:GREGORIAN
METHOD:PUBLISH
X-WR-CALNAME:Davis Cemetery District &amp; Arboretum
X-ORIGINAL-URL:https://daviscemetery.org
X-WR-CALDESC:Events for Davis Cemetery District &amp; Arboretum
BEGIN:VEVENT
DTSTART;TZID=America/Los_Angeles:20240514T150000
DTEND;TZID=America/Los_Angeles:20240514T170000
DTSTAMP:20260424T124324
CREATED:20240419T220158Z
LAST-MODIFIED:20240419T220158Z
UID:5736-1715698800-1715706000@daviscemetery.org
SUMMARY:Kerstin Renner burial
DESCRIPTION:
URL:https://daviscemetery.org/event/kerstin-renner-burial/
CATEGORIES:Davis Cemetery District
END:VEVENT
END:VCALENDAR