BEGIN:VCALENDAR
VERSION:2.0
PRODID:-//Davis Cemetery District &amp; Arboretum - ECPv4.6.21//NONSGML v1.0//EN
CALSCALE:GREGORIAN
METHOD:PUBLISH
X-WR-CALNAME:Davis Cemetery District &amp; Arboretum
X-ORIGINAL-URL:https://daviscemetery.org
X-WR-CALDESC:Events for Davis Cemetery District &amp; Arboretum
BEGIN:VEVENT
DTSTART;TZID=America/Los_Angeles:20240504T110000
DTEND;TZID=America/Los_Angeles:20240504T130000
DTSTAMP:20260424T123726
CREATED:20240419T220305Z
LAST-MODIFIED:20240419T220305Z
UID:5738-1714820400-1714827600@daviscemetery.org
SUMMARY:Audrey Lippman Burial
DESCRIPTION:
URL:https://daviscemetery.org/event/audrey-lippman-burial/
CATEGORIES:Davis Cemetery District
END:VEVENT
END:VCALENDAR