BEGIN:VCALENDAR
VERSION:2.0
PRODID:-//Davis Cemetery District &amp; Arboretum - ECPv4.6.21//NONSGML v1.0//EN
CALSCALE:GREGORIAN
METHOD:PUBLISH
X-WR-CALNAME:Davis Cemetery District &amp; Arboretum
X-ORIGINAL-URL:https://daviscemetery.org
X-WR-CALDESC:Events for Davis Cemetery District &amp; Arboretum
BEGIN:VEVENT
DTSTART;TZID=America/Los_Angeles:20240426T100000
DTEND;TZID=America/Los_Angeles:20240426T120000
DTSTAMP:20260424T141642
CREATED:20240418T195542Z
LAST-MODIFIED:20240418T195542Z
UID:5720-1714125600-1714132800@daviscemetery.org
SUMMARY:Gerald West Burial
DESCRIPTION:
URL:https://daviscemetery.org/event/gerald-west-burial/
CATEGORIES:Davis Cemetery District
END:VEVENT
BEGIN:VEVENT
DTSTART;TZID=America/Los_Angeles:20240426T130000
DTEND;TZID=America/Los_Angeles:20240426T150000
DTSTAMP:20260424T141642
CREATED:20240422T172440Z
LAST-MODIFIED:20240422T172440Z
UID:5741-1714136400-1714143600@daviscemetery.org
SUMMARY:Richard Lander Burial
DESCRIPTION:
URL:https://daviscemetery.org/event/richard-lander-burial/
CATEGORIES:Davis Cemetery District
END:VEVENT
END:VCALENDAR