BEGIN:VCALENDAR
VERSION:2.0
PRODID:-//Davis Cemetery District &amp; Arboretum - ECPv4.6.21//NONSGML v1.0//EN
CALSCALE:GREGORIAN
METHOD:PUBLISH
X-WR-CALNAME:Davis Cemetery District &amp; Arboretum
X-ORIGINAL-URL:https://daviscemetery.org
X-WR-CALDESC:Events for Davis Cemetery District &amp; Arboretum
BEGIN:VEVENT
DTSTART;TZID=America/Los_Angeles:20240330T110000
DTEND;TZID=America/Los_Angeles:20240330T130000
DTSTAMP:20260424T154922
CREATED:20240320T210850Z
LAST-MODIFIED:20240320T210850Z
UID:5657-1711796400-1711803600@daviscemetery.org
SUMMARY:Alex Wong Burial
DESCRIPTION:
URL:https://daviscemetery.org/event/alex-wong-burial/
CATEGORIES:Davis Cemetery District
END:VEVENT
END:VCALENDAR