BEGIN:VCALENDAR
VERSION:2.0
PRODID:-//Davis Cemetery District &amp; Arboretum - ECPv4.6.21//NONSGML v1.0//EN
CALSCALE:GREGORIAN
METHOD:PUBLISH
X-WR-CALNAME:Davis Cemetery District &amp; Arboretum
X-ORIGINAL-URL:https://daviscemetery.org
X-WR-CALDESC:Events for Davis Cemetery District &amp; Arboretum
BEGIN:VEVENT
DTSTART;TZID=America/Los_Angeles:20240129T100000
DTEND;TZID=America/Los_Angeles:20240129T103000
DTSTAMP:20260424T171532
CREATED:20240123T230050Z
LAST-MODIFIED:20240123T230050Z
UID:5508-1706522400-1706524200@daviscemetery.org
SUMMARY:Jia Wang Burial
DESCRIPTION:
URL:https://daviscemetery.org/event/jia-wang-burial/
CATEGORIES:Davis Cemetery District
END:VEVENT
BEGIN:VEVENT
DTSTART;TZID=America/Los_Angeles:20240129T110000
DTEND;TZID=America/Los_Angeles:20240129T130000
DTSTAMP:20260424T171532
CREATED:20240116T213214Z
LAST-MODIFIED:20240116T213214Z
UID:5501-1706526000-1706533200@daviscemetery.org
SUMMARY:Rachel Griffes Burial
DESCRIPTION:
URL:https://daviscemetery.org/event/rachel-griffes-burial/
CATEGORIES:Davis Cemetery District
END:VEVENT
END:VCALENDAR