BEGIN:VCALENDAR
VERSION:2.0
PRODID:-//Davis Cemetery District &amp; Arboretum - ECPv4.6.21//NONSGML v1.0//EN
CALSCALE:GREGORIAN
METHOD:PUBLISH
X-WR-CALNAME:Davis Cemetery District &amp; Arboretum
X-ORIGINAL-URL:https://daviscemetery.org
X-WR-CALDESC:Events for Davis Cemetery District &amp; Arboretum
BEGIN:VEVENT
DTSTART;TZID=America/Los_Angeles:20231227T110000
DTEND;TZID=America/Los_Angeles:20231227T130000
DTSTAMP:20260424T202247
CREATED:20231226T200448Z
LAST-MODIFIED:20231226T200448Z
UID:5443-1703674800-1703682000@daviscemetery.org
SUMMARY:Sophie Hochman Burial
DESCRIPTION:
URL:https://daviscemetery.org/event/sophie-hochman-burial/
CATEGORIES:Davis Cemetery District
END:VEVENT
END:VCALENDAR