BEGIN:VCALENDAR
VERSION:2.0
PRODID:-//Davis Cemetery District &amp; Arboretum - ECPv4.6.21//NONSGML v1.0//EN
CALSCALE:GREGORIAN
METHOD:PUBLISH
X-WR-CALNAME:Davis Cemetery District &amp; Arboretum
X-ORIGINAL-URL:https://daviscemetery.org
X-WR-CALDESC:Events for Davis Cemetery District &amp; Arboretum
BEGIN:VEVENT
DTSTART;TZID=America/Los_Angeles:20231204T140000
DTEND;TZID=America/Los_Angeles:20231204T160000
DTSTAMP:20260424T202442
CREATED:20231130T155516Z
LAST-MODIFIED:20231130T155516Z
UID:5400-1701698400-1701705600@daviscemetery.org
SUMMARY:Harold Honeyfield Burial
DESCRIPTION:
URL:https://daviscemetery.org/event/harold-honeyfield-burial/
CATEGORIES:Davis Cemetery District
END:VEVENT
END:VCALENDAR