BEGIN:VCALENDAR
VERSION:2.0
PRODID:-//Davis Cemetery District &amp; Arboretum - ECPv4.6.21//NONSGML v1.0//EN
CALSCALE:GREGORIAN
METHOD:PUBLISH
X-WR-CALNAME:Davis Cemetery District &amp; Arboretum
X-ORIGINAL-URL:https://daviscemetery.org
X-WR-CALDESC:Events for Davis Cemetery District &amp; Arboretum
BEGIN:VEVENT
DTSTART;TZID=America/Los_Angeles:20231119T113000
DTEND;TZID=America/Los_Angeles:20231119T133000
DTSTAMP:20260424T215052
CREATED:20231115T215235Z
LAST-MODIFIED:20231115T215235Z
UID:5393-1700393400-1700400600@daviscemetery.org
SUMMARY:Michael Lubin Burial
DESCRIPTION:
URL:https://daviscemetery.org/event/michael-lubin-burial/
CATEGORIES:Davis Cemetery District
END:VEVENT
END:VCALENDAR