BEGIN:VCALENDAR
VERSION:2.0
PRODID:-//Davis Cemetery District &amp; Arboretum - ECPv4.6.21//NONSGML v1.0//EN
CALSCALE:GREGORIAN
METHOD:PUBLISH
X-WR-CALNAME:Davis Cemetery District &amp; Arboretum
X-ORIGINAL-URL:https://daviscemetery.org
X-WR-CALDESC:Events for Davis Cemetery District &amp; Arboretum
BEGIN:VEVENT
DTSTART;TZID=America/Los_Angeles:20231111T103000
DTEND;TZID=America/Los_Angeles:20231111T120000
DTSTAMP:20260424T215135
CREATED:20231023T162822Z
LAST-MODIFIED:20231023T162822Z
UID:5347-1699698600-1699704000@daviscemetery.org
SUMMARY:2023 Veterans Day Program
DESCRIPTION:2023 Program Details \nSaturday\, November 11\, 2023 \nMusical Prelude: 10:30 am / Formal Program: 11:00 am \nMusical performances by Golden State Brass\, Adrienne Fortini\, Davis Local Vocals\, The Davis Madrigals\, and Jazz Choir. \nKeynote Speaker: Jim Walker \nSergeant Jim Walker was born in Huntsville\, Alabama in 1946.  He completed his BS from the University of Alabama and the PMD program at The Harvard Business School.  Jim served in the US Army from January 1969 through 1970 with a one year deployment to Vietnam with the First Cavalry Division.  He is the recipient of the Purple Heart and the Bronze and Army Commendation medals with V.   He retired as a senior executive in the transportation industry and has served on numerous boards in the logistics arena.  Jim is a member of Davis Odd Fellows and served as Chaplain in 2022. \n
URL:https://daviscemetery.org/event/2023-veterans-day-program/
CATEGORIES:Davis Cemetery District
END:VEVENT
END:VCALENDAR