BEGIN:VCALENDAR
VERSION:2.0
PRODID:-//Davis Cemetery District &amp; Arboretum - ECPv4.6.21//NONSGML v1.0//EN
CALSCALE:GREGORIAN
METHOD:PUBLISH
X-WR-CALNAME:Davis Cemetery District &amp; Arboretum
X-ORIGINAL-URL:https://daviscemetery.org
X-WR-CALDESC:Events for Davis Cemetery District &amp; Arboretum
BEGIN:VEVENT
DTSTART;TZID=America/Los_Angeles:20230828T110000
DTEND;TZID=America/Los_Angeles:20230828T130000
DTSTAMP:20260425T004403
CREATED:20230822T153955Z
LAST-MODIFIED:20230822T153955Z
UID:5227-1693220400-1693227600@daviscemetery.org
SUMMARY:Robert Hipps Burial
DESCRIPTION:
URL:https://daviscemetery.org/event/robert-hipps-burial/
CATEGORIES:Davis Cemetery District
END:VEVENT
END:VCALENDAR