BEGIN:VCALENDAR
VERSION:2.0
PRODID:-//Davis Cemetery District &amp; Arboretum - ECPv4.6.21//NONSGML v1.0//EN
CALSCALE:GREGORIAN
METHOD:PUBLISH
X-WR-CALNAME:Davis Cemetery District &amp; Arboretum
X-ORIGINAL-URL:https://daviscemetery.org
X-WR-CALDESC:Events for Davis Cemetery District &amp; Arboretum
BEGIN:VEVENT
DTSTART;TZID=America/Los_Angeles:20230629T110000
DTEND;TZID=America/Los_Angeles:20230629T130000
DTSTAMP:20260425T033438
CREATED:20230626T170252Z
LAST-MODIFIED:20230626T170252Z
UID:5106-1688036400-1688043600@daviscemetery.org
SUMMARY:Dennis Dingemans Burial
DESCRIPTION:
URL:https://daviscemetery.org/event/dennis-dingemans-burial/
CATEGORIES:Davis Cemetery District
END:VEVENT
END:VCALENDAR