BEGIN:VCALENDAR
VERSION:2.0
PRODID:-//Davis Cemetery District &amp; Arboretum - ECPv4.6.21//NONSGML v1.0//EN
CALSCALE:GREGORIAN
METHOD:PUBLISH
X-WR-CALNAME:Davis Cemetery District &amp; Arboretum
X-ORIGINAL-URL:https://daviscemetery.org
X-WR-CALDESC:Events for Davis Cemetery District &amp; Arboretum
BEGIN:VEVENT
DTSTART;TZID=America/Los_Angeles:20221220T110000
DTEND;TZID=America/Los_Angeles:20221220T130000
DTSTAMP:20260425T143510
CREATED:20221213T200416Z
LAST-MODIFIED:20221213T200416Z
UID:4663-1671534000-1671541200@daviscemetery.org
SUMMARY:William Marshall Burial
DESCRIPTION:
URL:https://daviscemetery.org/event/william-marshall-burial-2/
CATEGORIES:Davis Cemetery District
END:VEVENT
BEGIN:VEVENT
DTSTART;TZID=America/Los_Angeles:20221220T140000
DTEND;TZID=America/Los_Angeles:20221220T160000
DTSTAMP:20260425T143510
CREATED:20221216T203156Z
LAST-MODIFIED:20221216T203156Z
UID:4668-1671544800-1671552000@daviscemetery.org
SUMMARY:Howard Herchleder Burial
DESCRIPTION:
URL:https://daviscemetery.org/event/howard-herchleder-burial/
CATEGORIES:Davis Cemetery District
END:VEVENT
END:VCALENDAR