BEGIN:VCALENDAR
VERSION:2.0
PRODID:-//Davis Cemetery District &amp; Arboretum - ECPv4.6.21//NONSGML v1.0//EN
CALSCALE:GREGORIAN
METHOD:PUBLISH
X-WR-CALNAME:Davis Cemetery District &amp; Arboretum
X-ORIGINAL-URL:https://daviscemetery.org
X-WR-CALDESC:Events for Davis Cemetery District &amp; Arboretum
BEGIN:VEVENT
DTSTART;TZID=America/Los_Angeles:20221111T103000
DTEND;TZID=America/Los_Angeles:20221111T120000
DTSTAMP:20260425T160449
CREATED:20221020T154936Z
LAST-MODIFIED:20221102T171246Z
UID:4476-1668162600-1668168000@daviscemetery.org
SUMMARY:Veterans Day Service
DESCRIPTION:The Davis Odd Fellows and Davis Canton will host this year’s Veterans Day ceremony Friday\, November 11th\, at the Davis Cemetery District\, 820 Pole Line Road. \nThere will be a musical prelude at 10:30 am followed by a formal program beginning at 11:00 am. The ceremony will include a Posting of the Colors by UC Davis Army ROTC\, musical selections\, and keynote speaker Larry Guenther. \nDavis Scouts and cemetery staff will place the flags along our internal roadways and on the graves of nearly 1\,000 veterans buried at the cemetery. \nIf you are interested in volunteering for setting up or to aid in the handing out of programs and the removal of flags later in the afternoon\, please contact Jessica at jess@daviscemetery.org. \n
URL:https://daviscemetery.org/event/veterans-day-service/
CATEGORIES:Davis Cemetery District
END:VEVENT
END:VCALENDAR