BEGIN:VCALENDAR
VERSION:2.0
PRODID:-//Davis Cemetery District &amp; Arboretum - ECPv4.6.21//NONSGML v1.0//EN
CALSCALE:GREGORIAN
METHOD:PUBLISH
X-WR-CALNAME:Davis Cemetery District &amp; Arboretum
X-ORIGINAL-URL:https://daviscemetery.org
X-WR-CALDESC:Events for Davis Cemetery District &amp; Arboretum
BEGIN:VEVENT
DTSTART;TZID=America/Los_Angeles:20221103T140000
DTEND;TZID=America/Los_Angeles:20221103T160000
DTSTAMP:20260425T160532
CREATED:20221027T214311Z
LAST-MODIFIED:20221027T214311Z
UID:4481-1667484000-1667491200@daviscemetery.org
SUMMARY:Darcelia Hernandez Burial
DESCRIPTION:
URL:https://daviscemetery.org/event/darcelia-hernandez-burial/
CATEGORIES:Davis Cemetery District
END:VEVENT
END:VCALENDAR