BEGIN:VCALENDAR
VERSION:2.0
PRODID:-//Davis Cemetery District &amp; Arboretum - ECPv4.6.21//NONSGML v1.0//EN
CALSCALE:GREGORIAN
METHOD:PUBLISH
X-WR-CALNAME:Davis Cemetery District &amp; Arboretum
X-ORIGINAL-URL:https://daviscemetery.org
X-WR-CALDESC:Events for Davis Cemetery District &amp; Arboretum
BEGIN:VEVENT
DTSTART;TZID=America/Los_Angeles:20220719T110000
DTEND;TZID=America/Los_Angeles:20220719T130000
DTSTAMP:20260425T215040
CREATED:20220706T174148Z
LAST-MODIFIED:20220706T174148Z
UID:4341-1658228400-1658235600@daviscemetery.org
SUMMARY:Prisciliano Quezadas Burial
DESCRIPTION:
URL:https://daviscemetery.org/event/prisciliano-quezadas-burial/
CATEGORIES:Davis Cemetery District
END:VEVENT
END:VCALENDAR