BEGIN:VCALENDAR
VERSION:2.0
PRODID:-//Davis Cemetery District &amp; Arboretum - ECPv4.6.21//NONSGML v1.0//EN
CALSCALE:GREGORIAN
METHOD:PUBLISH
X-WR-CALNAME:Davis Cemetery District &amp; Arboretum
X-ORIGINAL-URL:https://daviscemetery.org
X-WR-CALDESC:Events for Davis Cemetery District &amp; Arboretum
BEGIN:VEVENT
DTSTART;TZID=America/Los_Angeles:20220630T100000
DTEND;TZID=America/Los_Angeles:20220630T120000
DTSTAMP:20260425T215003
CREATED:20220623T193324Z
LAST-MODIFIED:20220623T193324Z
UID:4324-1656583200-1656590400@daviscemetery.org
SUMMARY:Robert and Dorothy Woolley Burial
DESCRIPTION:
URL:https://daviscemetery.org/event/robert-and-dorothy-woolley-burial/
CATEGORIES:Davis Cemetery District
END:VEVENT
END:VCALENDAR