BEGIN:VCALENDAR
VERSION:2.0
PRODID:-//Davis Cemetery District &amp; Arboretum - ECPv4.6.21//NONSGML v1.0//EN
CALSCALE:GREGORIAN
METHOD:PUBLISH
X-WR-CALNAME:Davis Cemetery District &amp; Arboretum
X-ORIGINAL-URL:https://daviscemetery.org
X-WR-CALDESC:Events for Davis Cemetery District &amp; Arboretum
BEGIN:VEVENT
DTSTART;TZID=America/Los_Angeles:20220624T100000
DTEND;TZID=America/Los_Angeles:20220624T120000
DTSTAMP:20260425T232000
CREATED:20220623T193059Z
LAST-MODIFIED:20220623T193059Z
UID:4318-1656064800-1656072000@daviscemetery.org
SUMMARY:Marietta Hamilton Burial
DESCRIPTION:
URL:https://daviscemetery.org/event/marietta-hamilton-burial/
CATEGORIES:Davis Cemetery District
END:VEVENT
BEGIN:VEVENT
DTSTART;TZID=America/Los_Angeles:20220624T123000
DTEND;TZID=America/Los_Angeles:20220624T143000
DTSTAMP:20260425T232001
CREATED:20220623T193136Z
LAST-MODIFIED:20220623T193136Z
UID:4320-1656073800-1656081000@daviscemetery.org
SUMMARY:Norman Tilton Burial
DESCRIPTION:
URL:https://daviscemetery.org/event/norman-tilton-burial/
CATEGORIES:Davis Cemetery District
END:VEVENT
END:VCALENDAR