BEGIN:VCALENDAR
VERSION:2.0
PRODID:-//Davis Cemetery District &amp; Arboretum - ECPv4.6.21//NONSGML v1.0//EN
CALSCALE:GREGORIAN
METHOD:PUBLISH
X-WR-CALNAME:Davis Cemetery District &amp; Arboretum
X-ORIGINAL-URL:https://daviscemetery.org
X-WR-CALDESC:Events for Davis Cemetery District &amp; Arboretum
BEGIN:VEVENT
DTSTART;TZID=America/Los_Angeles:20220530T093000
DTEND;TZID=America/Los_Angeles:20220530T110000
DTSTAMP:20260425T232001
CREATED:20220509T173044Z
LAST-MODIFIED:20220509T173052Z
UID:4259-1653903000-1653908400@daviscemetery.org
SUMMARY:2022 Memorial Day Ceremony
DESCRIPTION:2022 Memorial Day Ceremony \n \n
URL:https://daviscemetery.org/event/2022-memorial-day-ceremony/
CATEGORIES:Davis Cemetery District
END:VEVENT
END:VCALENDAR