BEGIN:VCALENDAR
VERSION:2.0
PRODID:-//Davis Cemetery District &amp; Arboretum - ECPv4.6.21//NONSGML v1.0//EN
CALSCALE:GREGORIAN
METHOD:PUBLISH
X-WR-CALNAME:Davis Cemetery District &amp; Arboretum
X-ORIGINAL-URL:https://daviscemetery.org
X-WR-CALDESC:Events for Davis Cemetery District &amp; Arboretum
BEGIN:VEVENT
DTSTART;TZID=America/Los_Angeles:20220514T120000
DTEND;TZID=America/Los_Angeles:20220514T140000
DTSTAMP:20260426T004700
CREATED:20220427T204525Z
LAST-MODIFIED:20220427T204525Z
UID:4233-1652529600-1652536800@daviscemetery.org
SUMMARY:Letha Magee Burial
DESCRIPTION:
URL:https://daviscemetery.org/event/letha-magee-burial/
CATEGORIES:Davis Cemetery District
END:VEVENT
END:VCALENDAR