BEGIN:VCALENDAR
VERSION:2.0
PRODID:-//Davis Cemetery District &amp; Arboretum - ECPv4.6.21//NONSGML v1.0//EN
CALSCALE:GREGORIAN
METHOD:PUBLISH
X-WR-CALNAME:Davis Cemetery District &amp; Arboretum
X-ORIGINAL-URL:https://daviscemetery.org
X-WR-CALDESC:Events for Davis Cemetery District &amp; Arboretum
BEGIN:VEVENT
DTSTART;TZID=America/Los_Angeles:20220401T140000
DTEND;TZID=America/Los_Angeles:20220401T160000
DTSTAMP:20260425T160230
CREATED:20220331T183902Z
LAST-MODIFIED:20220331T183902Z
UID:4181-1648821600-1648828800@daviscemetery.org
SUMMARY:Jean and William Allewelt Burial
DESCRIPTION:
URL:https://daviscemetery.org/event/jean-and-william-allewelt-burial/
CATEGORIES:Davis Cemetery District
END:VEVENT
END:VCALENDAR