BEGIN:VCALENDAR
VERSION:2.0
PRODID:-//Davis Cemetery District &amp; Arboretum - ECPv4.6.21//NONSGML v1.0//EN
CALSCALE:GREGORIAN
METHOD:PUBLISH
X-WR-CALNAME:Davis Cemetery District &amp; Arboretum
X-ORIGINAL-URL:https://daviscemetery.org
X-WR-CALDESC:Events for Davis Cemetery District &amp; Arboretum
BEGIN:VEVENT
DTSTART;TZID=America/Los_Angeles:20220318T110000
DTEND;TZID=America/Los_Angeles:20220318T130000
DTSTAMP:20260424T181636
CREATED:20220311T181741Z
LAST-MODIFIED:20220311T181741Z
UID:4133-1647601200-1647608400@daviscemetery.org
SUMMARY:Elizabeth Bradford Burial
DESCRIPTION:
URL:https://daviscemetery.org/event/elizabeth-bradford-burial/
CATEGORIES:Davis Cemetery District
END:VEVENT
END:VCALENDAR