BEGIN:VCALENDAR
VERSION:2.0
PRODID:-//Davis Cemetery District &amp; Arboretum - ECPv4.6.21//NONSGML v1.0//EN
CALSCALE:GREGORIAN
METHOD:PUBLISH
X-WR-CALNAME:Davis Cemetery District &amp; Arboretum
X-ORIGINAL-URL:https://daviscemetery.org
X-WR-CALDESC:Events for Davis Cemetery District &amp; Arboretum
BEGIN:VEVENT
DTSTART;VALUE=DATE:20220226
DTEND;VALUE=DATE:20220227
DTSTAMP:20260423T105204
CREATED:20220223T164611Z
LAST-MODIFIED:20220223T164617Z
UID:4120-1645833600-1645919999@daviscemetery.org
SUMMARY:UCD Student Film On Site
DESCRIPTION:
URL:https://daviscemetery.org/event/ucd-student-film-one-site/
CATEGORIES:Davis Cemetery District
END:VEVENT
END:VCALENDAR