BEGIN:VCALENDAR
VERSION:2.0
PRODID:-//Davis Cemetery District &amp; Arboretum - ECPv4.6.21//NONSGML v1.0//EN
CALSCALE:GREGORIAN
METHOD:PUBLISH
X-WR-CALNAME:Davis Cemetery District &amp; Arboretum
X-ORIGINAL-URL:https://daviscemetery.org
X-WR-CALDESC:Events for Davis Cemetery District &amp; Arboretum
BEGIN:VEVENT
DTSTART;TZID=America/Los_Angeles:20200328T150000
DTEND;TZID=America/Los_Angeles:20200328T160000
DTSTAMP:20260420T050952
CREATED:20200219T162245Z
LAST-MODIFIED:20200219T162245Z
UID:3174-1585407600-1585411200@daviscemetery.org
SUMMARY:Bryant and Jane Wright Burial
DESCRIPTION:
URL:https://daviscemetery.org/event/bryant-and-jane-wright-burial/
CATEGORIES:Davis Cemetery District
END:VEVENT
END:VCALENDAR