BEGIN:VCALENDAR
VERSION:2.0
PRODID:-//Davis Cemetery District &amp; Arboretum - ECPv4.6.21//NONSGML v1.0//EN
CALSCALE:GREGORIAN
METHOD:PUBLISH
X-WR-CALNAME:Davis Cemetery District &amp; Arboretum
X-ORIGINAL-URL:https://daviscemetery.org
X-WR-CALDESC:Events for Davis Cemetery District &amp; Arboretum
BEGIN:VEVENT
DTSTART;TZID=America/Los_Angeles:20190524T100000
DTEND;TZID=America/Los_Angeles:20190524T120000
DTSTAMP:20260423T102234
CREATED:20190510T170534Z
LAST-MODIFIED:20190510T170607Z
UID:2639-1558692000-1558699200@daviscemetery.org
SUMMARY:Elizabeth Edwards Burial
DESCRIPTION:
URL:https://daviscemetery.org/event/elizabeth-edwards-burial-2/
CATEGORIES:Davis Cemetery District
END:VEVENT
END:VCALENDAR