BEGIN:VCALENDAR
VERSION:2.0
PRODID:-//Davis Cemetery District &amp; Arboretum - ECPv4.6.21//NONSGML v1.0//EN
CALSCALE:GREGORIAN
METHOD:PUBLISH
X-WR-CALNAME:Davis Cemetery District &amp; Arboretum
X-ORIGINAL-URL:https://daviscemetery.org
X-WR-CALDESC:Events for Davis Cemetery District &amp; Arboretum
BEGIN:VEVENT
DTSTART;TZID=America/Los_Angeles:20251205T140000
DTEND;TZID=America/Los_Angeles:20251205T160000
DTSTAMP:20260421T084642
CREATED:20251201T163714Z
LAST-MODIFIED:20251201T163714Z
UID:6905-1764943200-1764950400@daviscemetery.org
SUMMARY:Dean Mason Burial
DESCRIPTION:
URL:https://daviscemetery.org/event/dean-mason-burial/
CATEGORIES:Davis Cemetery District
END:VEVENT
END:VCALENDAR