BEGIN:VCALENDAR
VERSION:2.0
PRODID:-//Davis Cemetery District &amp; Arboretum - ECPv4.6.21//NONSGML v1.0//EN
CALSCALE:GREGORIAN
METHOD:PUBLISH
X-WR-CALNAME:Davis Cemetery District &amp; Arboretum
X-ORIGINAL-URL:https://daviscemetery.org
X-WR-CALDESC:Events for Davis Cemetery District &amp; Arboretum
BEGIN:VEVENT
DTSTART;TZID=America/Los_Angeles:20251130T130000
DTEND;TZID=America/Los_Angeles:20251130T150000
DTSTAMP:20260421T100452
CREATED:20251112T223951Z
LAST-MODIFIED:20251112T223951Z
UID:6893-1764507600-1764514800@daviscemetery.org
SUMMARY:Kathleen Rose Burial
DESCRIPTION:
URL:https://daviscemetery.org/event/kathleen-rose-burial/
CATEGORIES:Davis Cemetery District
END:VEVENT
END:VCALENDAR