BEGIN:VCALENDAR
VERSION:2.0
PRODID:-//Davis Cemetery District &amp; Arboretum - ECPv4.6.21//NONSGML v1.0//EN
CALSCALE:GREGORIAN
METHOD:PUBLISH
X-WR-CALNAME:Davis Cemetery District &amp; Arboretum
X-ORIGINAL-URL:https://daviscemetery.org
X-WR-CALDESC:Events for Davis Cemetery District &amp; Arboretum
BEGIN:VEVENT
DTSTART;TZID=America/Los_Angeles:20251126T100000
DTEND;TZID=America/Los_Angeles:20251126T120000
DTSTAMP:20260421T101450
CREATED:20251105T180122Z
LAST-MODIFIED:20251105T180122Z
UID:6878-1764151200-1764158400@daviscemetery.org
SUMMARY:Janet Peck Burial
DESCRIPTION:
URL:https://daviscemetery.org/event/janet-peck-burial/
CATEGORIES:Davis Cemetery District
END:VEVENT
END:VCALENDAR