BEGIN:VCALENDAR
VERSION:2.0
PRODID:-//Davis Cemetery District &amp; Arboretum - ECPv4.6.21//NONSGML v1.0//EN
CALSCALE:GREGORIAN
METHOD:PUBLISH
X-WR-CALNAME:Davis Cemetery District &amp; Arboretum
X-ORIGINAL-URL:https://daviscemetery.org
X-WR-CALDESC:Events for Davis Cemetery District &amp; Arboretum
BEGIN:VEVENT
DTSTART;TZID=America/Los_Angeles:20250913T110000
DTEND;TZID=America/Los_Angeles:20250913T130000
DTSTAMP:20260421T113621
CREATED:20250825T204252Z
LAST-MODIFIED:20250825T204252Z
UID:6781-1757761200-1757768400@daviscemetery.org
SUMMARY:John Lau Burial
DESCRIPTION:
URL:https://daviscemetery.org/event/john-lau-burial/
CATEGORIES:Davis Cemetery District
END:VEVENT
END:VCALENDAR