BEGIN:VCALENDAR
VERSION:2.0
PRODID:-//Davis Cemetery District &amp; Arboretum - ECPv4.6.21//NONSGML v1.0//EN
CALSCALE:GREGORIAN
METHOD:PUBLISH
X-WR-CALNAME:Davis Cemetery District &amp; Arboretum
X-ORIGINAL-URL:https://daviscemetery.org
X-WR-CALDESC:Events for Davis Cemetery District &amp; Arboretum
BEGIN:VEVENT
DTSTART;TZID=America/Los_Angeles:20250815T100000
DTEND;TZID=America/Los_Angeles:20250815T120000
DTSTAMP:20260421T131618
CREATED:20250731T155308Z
LAST-MODIFIED:20250731T155308Z
UID:6751-1755252000-1755259200@daviscemetery.org
SUMMARY:Walter and Isabella Hermann
DESCRIPTION:
URL:https://daviscemetery.org/event/walter-and-isabella-hermann/
CATEGORIES:Davis Cemetery District
END:VEVENT
END:VCALENDAR