BEGIN:VCALENDAR
VERSION:2.0
PRODID:-//Davis Cemetery District &amp; Arboretum - ECPv4.6.21//NONSGML v1.0//EN
CALSCALE:GREGORIAN
METHOD:PUBLISH
X-WR-CALNAME:Davis Cemetery District &amp; Arboretum
X-ORIGINAL-URL:https://daviscemetery.org
X-WR-CALDESC:Events for Davis Cemetery District &amp; Arboretum
BEGIN:VEVENT
DTSTART;TZID=America/Los_Angeles:20250814T090000
DTEND;TZID=America/Los_Angeles:20250814T110000
DTSTAMP:20260421T131443
CREATED:20250730T172223Z
LAST-MODIFIED:20250805T124545Z
UID:6749-1755162000-1755169200@daviscemetery.org
SUMMARY:Raymond Medina Burial
DESCRIPTION:
URL:https://daviscemetery.org/event/raymond-medina-burial/
CATEGORIES:Davis Cemetery District
END:VEVENT
END:VCALENDAR