BEGIN:VCALENDAR
VERSION:2.0
PRODID:-//Davis Cemetery District &amp; Arboretum - ECPv4.6.21//NONSGML v1.0//EN
CALSCALE:GREGORIAN
METHOD:PUBLISH
X-WR-CALNAME:Davis Cemetery District &amp; Arboretum
X-ORIGINAL-URL:https://daviscemetery.org
X-WR-CALDESC:Events for Davis Cemetery District &amp; Arboretum
BEGIN:VEVENT
DTSTART;TZID=America/Los_Angeles:20250802T140000
DTEND;TZID=America/Los_Angeles:20250802T160000
DTSTAMP:20260421T131410
CREATED:20250726T153031Z
LAST-MODIFIED:20250730T153628Z
UID:6714-1754143200-1754150400@daviscemetery.org
SUMMARY:Franco Renosto Burial
DESCRIPTION:
URL:https://daviscemetery.org/event/franco-renosto-burial/
CATEGORIES:Davis Cemetery District
END:VEVENT
END:VCALENDAR