BEGIN:VCALENDAR
VERSION:2.0
PRODID:-//Davis Cemetery District &amp; Arboretum - ECPv4.6.21//NONSGML v1.0//EN
CALSCALE:GREGORIAN
METHOD:PUBLISH
X-WR-CALNAME:Davis Cemetery District &amp; Arboretum
X-ORIGINAL-URL:https://daviscemetery.org
X-WR-CALDESC:Events for Davis Cemetery District &amp; Arboretum
BEGIN:VEVENT
DTSTART;TZID=America/Los_Angeles:20250623T090000
DTEND;TZID=America/Los_Angeles:20250623T110000
DTSTAMP:20260421T163537
CREATED:20250617T202051Z
LAST-MODIFIED:20250617T202051Z
UID:6642-1750669200-1750676400@daviscemetery.org
SUMMARY:Genevieve Moreno Burial
DESCRIPTION:
URL:https://daviscemetery.org/event/genevieve-moreno-burial/
CATEGORIES:Davis Cemetery District
END:VEVENT
BEGIN:VEVENT
DTSTART;TZID=America/Los_Angeles:20250623T123000
DTEND;TZID=America/Los_Angeles:20250623T143000
DTSTAMP:20260421T163537
CREATED:20250612T204341Z
LAST-MODIFIED:20250612T204341Z
UID:6635-1750681800-1750689000@daviscemetery.org
SUMMARY:James McNulty Burial
DESCRIPTION:
URL:https://daviscemetery.org/event/james-mcnulty-burial/
CATEGORIES:Davis Cemetery District
END:VEVENT
END:VCALENDAR