BEGIN:VCALENDAR
VERSION:2.0
PRODID:-//Davis Cemetery District &amp; Arboretum - ECPv4.6.21//NONSGML v1.0//EN
CALSCALE:GREGORIAN
METHOD:PUBLISH
X-WR-CALNAME:Davis Cemetery District &amp; Arboretum
X-ORIGINAL-URL:https://daviscemetery.org
X-WR-CALDESC:Events for Davis Cemetery District &amp; Arboretum
BEGIN:VEVENT
DTSTART;TZID=America/Los_Angeles:20250617T110000
DTEND;TZID=America/Los_Angeles:20250617T130000
DTSTAMP:20260421T163418
CREATED:20250603T181849Z
LAST-MODIFIED:20250605T163358Z
UID:6617-1750158000-1750165200@daviscemetery.org
SUMMARY:Geoffrey and Maritza Taylor Burial
DESCRIPTION:
URL:https://daviscemetery.org/event/geoffrey-and-maritza-burial/
CATEGORIES:Davis Cemetery District
END:VEVENT
END:VCALENDAR