BEGIN:VCALENDAR
VERSION:2.0
PRODID:-//Davis Cemetery District &amp; Arboretum - ECPv4.6.21//NONSGML v1.0//EN
CALSCALE:GREGORIAN
METHOD:PUBLISH
X-WR-CALNAME:Davis Cemetery District &amp; Arboretum
X-ORIGINAL-URL:https://daviscemetery.org
X-WR-CALDESC:Events for Davis Cemetery District &amp; Arboretum
BEGIN:VEVENT
DTSTART;TZID=America/Los_Angeles:20250611T130000
DTEND;TZID=America/Los_Angeles:20250611T150000
DTSTAMP:20260421T181047
CREATED:20250523T160202Z
LAST-MODIFIED:20250527T175514Z
UID:6596-1749646800-1749654000@daviscemetery.org
SUMMARY:Robert Hernandez Burial
DESCRIPTION:
URL:https://daviscemetery.org/event/robert-hernandez-burial/
CATEGORIES:Davis Cemetery District
END:VEVENT
END:VCALENDAR