BEGIN:VCALENDAR
VERSION:2.0
PRODID:-//Davis Cemetery District &amp; Arboretum - ECPv4.6.21//NONSGML v1.0//EN
CALSCALE:GREGORIAN
METHOD:PUBLISH
X-WR-CALNAME:Davis Cemetery District &amp; Arboretum
X-ORIGINAL-URL:https://daviscemetery.org
X-WR-CALDESC:Events for Davis Cemetery District &amp; Arboretum
BEGIN:VEVENT
DTSTART;TZID=America/Los_Angeles:20250610T111500
DTEND;TZID=America/Los_Angeles:20250610T131500
DTSTAMP:20260421T163539
CREATED:20250528T152554Z
LAST-MODIFIED:20250528T152554Z
UID:6607-1749554100-1749561300@daviscemetery.org
SUMMARY:Ignacia Nogales Burial
DESCRIPTION:
URL:https://daviscemetery.org/event/ignacia-nogales-burial/
CATEGORIES:Davis Cemetery District
END:VEVENT
END:VCALENDAR