BEGIN:VCALENDAR
VERSION:2.0
PRODID:-//Davis Cemetery District &amp; Arboretum - ECPv4.6.21//NONSGML v1.0//EN
CALSCALE:GREGORIAN
METHOD:PUBLISH
X-WR-CALNAME:Davis Cemetery District &amp; Arboretum
X-ORIGINAL-URL:https://daviscemetery.org
X-WR-CALDESC:Events for Davis Cemetery District &amp; Arboretum
BEGIN:VEVENT
DTSTART;TZID=America/Los_Angeles:20250304T130000
DTEND;TZID=America/Los_Angeles:20250304T150000
DTSTAMP:20260421T211841
CREATED:20250227T224516Z
LAST-MODIFIED:20250227T224516Z
UID:6470-1741093200-1741100400@daviscemetery.org
SUMMARY:Madalon Amenta Burial
DESCRIPTION:
URL:https://daviscemetery.org/event/madalon-amenta-burial/
CATEGORIES:Davis Cemetery District
END:VEVENT
END:VCALENDAR