BEGIN:VCALENDAR
VERSION:2.0
PRODID:-//Davis Cemetery District &amp; Arboretum - ECPv4.6.21//NONSGML v1.0//EN
CALSCALE:GREGORIAN
METHOD:PUBLISH
X-WR-CALNAME:Davis Cemetery District &amp; Arboretum
X-ORIGINAL-URL:https://daviscemetery.org
X-WR-CALDESC:Events for Davis Cemetery District &amp; Arboretum
BEGIN:VEVENT
DTSTART;TZID=America/Los_Angeles:20241126T110000
DTEND;TZID=America/Los_Angeles:20241126T130000
DTSTAMP:20260422T014828
CREATED:20241031T215525Z
LAST-MODIFIED:20241031T215525Z
UID:6200-1732618800-1732626000@daviscemetery.org
SUMMARY:Neal Ohlendorf Burial
DESCRIPTION:
URL:https://daviscemetery.org/event/neal-ohlendorf-burial/
CATEGORIES:Davis Cemetery District
END:VEVENT
END:VCALENDAR