BEGIN:VCALENDAR
VERSION:2.0
PRODID:-//Davis Cemetery District &amp; Arboretum - ECPv4.6.21//NONSGML v1.0//EN
CALSCALE:GREGORIAN
METHOD:PUBLISH
X-WR-CALNAME:Davis Cemetery District &amp; Arboretum
X-ORIGINAL-URL:https://daviscemetery.org
X-WR-CALDESC:Events for Davis Cemetery District &amp; Arboretum
BEGIN:VEVENT
DTSTART;TZID=America/Los_Angeles:20241004T113000
DTEND;TZID=America/Los_Angeles:20241004T133000
DTSTAMP:20260422T044532
CREATED:20240924T210126Z
LAST-MODIFIED:20240924T210126Z
UID:6118-1728041400-1728048600@daviscemetery.org
SUMMARY:Robert Stoner Burial
DESCRIPTION:
URL:https://daviscemetery.org/event/robert-stoner-burial/
CATEGORIES:Davis Cemetery District
END:VEVENT
END:VCALENDAR